BEGIN:VCALENDAR
VERSION:2.0
PRODID:icalendar-ruby
CALSCALE:GREGORIAN
METHOD:PUBLISH
BEGIN:VTIMEZONE
TZID:Australia/Perth
BEGIN:STANDARD
DTSTART:20090329T020000
TZOFFSETFROM:+0900
TZOFFSETTO:+0800
TZNAME:AWST
END:STANDARD
END:VTIMEZONE
BEGIN:VEVENT
DTSTAMP:20260420T081740Z
UID:inspection_3000607
DTSTART;TZID=Australia/Perth:20260418T130000
DTEND;TZID=Australia/Perth:20260418T131500
CLASS:PUBLIC
CREATED:20260416T124839
DESCRIPTION: 
LAST-MODIFIED:20260416T124839
LOCATION:5 Ivers Court\, LANGFORD WA 6147\, Australia
SUMMARY:5 Ivers Court\,  Inspection
URL;VALUE=URI:https://www.strattonrealty.com.au
END:VEVENT
END:VCALENDAR
