BEGIN:VCALENDAR
VERSION:2.0
PRODID:icalendar-ruby
CALSCALE:GREGORIAN
METHOD:PUBLISH
BEGIN:VTIMEZONE
TZID:Australia/Perth
BEGIN:STANDARD
DTSTART:20090329T020000
TZOFFSETFROM:+0900
TZOFFSETTO:+0800
TZNAME:AWST
END:STANDARD
END:VTIMEZONE
BEGIN:VEVENT
DTSTAMP:20260421T103333Z
UID:inspection_3008074
DTSTART;TZID=Australia/Perth:20260425T140000
DTEND;TZID=Australia/Perth:20260425T143000
CLASS:PUBLIC
CREATED:20260421T150750
DESCRIPTION: 
LAST-MODIFIED:20260421T150750
LOCATION:86B Gosnells Road\, MADDINGTON WA 6109\, Australia
SUMMARY:86B Gosnells Road\,  Inspection
URL;VALUE=URI:https://www.strattonrealty.com.au
END:VEVENT
END:VCALENDAR
