BEGIN:VCALENDAR
VERSION:2.0
PRODID:icalendar-ruby
CALSCALE:GREGORIAN
METHOD:PUBLISH
BEGIN:VTIMEZONE
TZID:Australia/Perth
BEGIN:STANDARD
DTSTART:20090329T020000
TZOFFSETFROM:+0900
TZOFFSETTO:+0800
TZNAME:AWST
END:STANDARD
END:VTIMEZONE
BEGIN:VEVENT
DTSTAMP:20260423T094120Z
UID:inspection_3010284
DTSTART;TZID=Australia/Perth:20260426T114500
DTEND;TZID=Australia/Perth:20260426T121500
CLASS:PUBLIC
CREATED:20260422T180355
DESCRIPTION: 
LAST-MODIFIED:20260422T180355
LOCATION:12 Montrose Circle\, CAMILLO WA 6111\, Australia
SUMMARY:12 Montrose Circle\,  Inspection
URL;VALUE=URI:https://www.strattonrealty.com.au
END:VEVENT
END:VCALENDAR
