BEGIN:VCALENDAR
VERSION:2.0
PRODID:icalendar-ruby
CALSCALE:GREGORIAN
METHOD:PUBLISH
BEGIN:VTIMEZONE
TZID:Australia/Perth
BEGIN:STANDARD
DTSTART:20090329T020000
TZOFFSETFROM:+0900
TZOFFSETTO:+0800
TZNAME:AWST
END:STANDARD
END:VTIMEZONE
BEGIN:VEVENT
DTSTAMP:20260423T065814Z
UID:inspection_3011083
DTSTART;TZID=Australia/Perth:20260425T124500
DTEND;TZID=Australia/Perth:20260425T130000
CLASS:PUBLIC
CREATED:20260423T111840
DESCRIPTION: 
LAST-MODIFIED:20260423T111840
LOCATION:49A Park Road\, KENWICK WA 6107\, Australia
SUMMARY:49A Park Road\,  Inspection
URL;VALUE=URI:https://www.strattonrealty.com.au
END:VEVENT
END:VCALENDAR
