BEGIN:VCALENDAR
VERSION:2.0
PRODID:icalendar-ruby
CALSCALE:GREGORIAN
METHOD:PUBLISH
BEGIN:VTIMEZONE
TZID:Australia/Perth
BEGIN:STANDARD
DTSTART:20090329T020000
TZOFFSETFROM:+0900
TZOFFSETTO:+0800
TZNAME:AWST
END:STANDARD
END:VTIMEZONE
BEGIN:VEVENT
DTSTAMP:20260423T111033Z
UID:inspection_3011670
DTSTART;TZID=Australia/Perth:20260426T100000
DTEND;TZID=Australia/Perth:20260426T103000
CLASS:PUBLIC
CREATED:20260423T161844
DESCRIPTION: 
LAST-MODIFIED:20260423T161844
LOCATION:45 Derry Avenue\, MOUNT NASURA WA 6112\, Australia
SUMMARY:45 Derry Avenue\,  Inspection
URL;VALUE=URI:https://www.strattonrealty.com.au
END:VEVENT
END:VCALENDAR
