BEGIN:VCALENDAR
VERSION:2.0
PRODID:icalendar-ruby
CALSCALE:GREGORIAN
METHOD:PUBLISH
BEGIN:VTIMEZONE
TZID:Australia/Perth
BEGIN:STANDARD
DTSTART:20090329T020000
TZOFFSETFROM:+0900
TZOFFSETTO:+0800
TZNAME:AWST
END:STANDARD
END:VTIMEZONE
BEGIN:VEVENT
DTSTAMP:20260424T140602Z
UID:inspection_3013174
DTSTART;TZID=Australia/Perth:20260426T130000
DTEND;TZID=Australia/Perth:20260426T133000
CLASS:PUBLIC
CREATED:20260424T191839
DESCRIPTION: 
LAST-MODIFIED:20260424T191839
LOCATION:56 Frederic Street\, MIDLAND WA 6056\, Australia
SUMMARY:56 Frederic Street\,  Inspection
URL;VALUE=URI:https://www.strattonrealty.com.au
END:VEVENT
END:VCALENDAR
